BEGIN:VCALENDAR
VERSION:2.0
PRODID:-//Troop 355 - ECPv6.15.20//NONSGML v1.0//EN
CALSCALE:GREGORIAN
METHOD:PUBLISH
X-ORIGINAL-URL:https://www.bsa-troop355.org
X-WR-CALDESC:Events for Troop 355
REFRESH-INTERVAL;VALUE=DURATION:PT1H
X-Robots-Tag:noindex
X-PUBLISHED-TTL:PT1H
BEGIN:VTIMEZONE
TZID:America/Los_Angeles
BEGIN:DAYLIGHT
TZOFFSETFROM:-0800
TZOFFSETTO:-0700
TZNAME:PDT
DTSTART:20100314T100000
END:DAYLIGHT
BEGIN:STANDARD
TZOFFSETFROM:-0700
TZOFFSETTO:-0800
TZNAME:PST
DTSTART:20101107T090000
END:STANDARD
BEGIN:DAYLIGHT
TZOFFSETFROM:-0800
TZOFFSETTO:-0700
TZNAME:PDT
DTSTART:20110313T100000
END:DAYLIGHT
BEGIN:STANDARD
TZOFFSETFROM:-0700
TZOFFSETTO:-0800
TZNAME:PST
DTSTART:20111106T090000
END:STANDARD
BEGIN:DAYLIGHT
TZOFFSETFROM:-0800
TZOFFSETTO:-0700
TZNAME:PDT
DTSTART:20120311T100000
END:DAYLIGHT
BEGIN:STANDARD
TZOFFSETFROM:-0700
TZOFFSETTO:-0800
TZNAME:PST
DTSTART:20121104T090000
END:STANDARD
BEGIN:DAYLIGHT
TZOFFSETFROM:-0800
TZOFFSETTO:-0700
TZNAME:PDT
DTSTART:20130310T100000
END:DAYLIGHT
BEGIN:STANDARD
TZOFFSETFROM:-0700
TZOFFSETTO:-0800
TZNAME:PST
DTSTART:20131103T090000
END:STANDARD
END:VTIMEZONE
BEGIN:VEVENT
DTSTART;TZID=America/Los_Angeles:20120403T000000
DTEND;TZID=America/Los_Angeles:20120403T000000
DTSTAMP:20260421T054447
CREATED:20200819T015412Z
LAST-MODIFIED:20200819T015412Z
UID:1506-1333411200-1333411200@www.bsa-troop355.org
SUMMARY:HMS Spring Break
DESCRIPTION:
URL:https://www.bsa-troop355.org/event/hms-spring-break-2/
CATEGORIES:Holiday
END:VEVENT
BEGIN:VEVENT
DTSTART;TZID=America/Los_Angeles:20120402T000000
DTEND;TZID=America/Los_Angeles:20120402T000000
DTSTAMP:20260421T054447
CREATED:20200819T015411Z
LAST-MODIFIED:20200819T015411Z
UID:1505-1333324800-1333324800@www.bsa-troop355.org
SUMMARY:HMS Spring Break
DESCRIPTION:
URL:https://www.bsa-troop355.org/event/hms-spring-break/
CATEGORIES:Holiday
END:VEVENT
BEGIN:VEVENT
DTSTART;TZID=America/Los_Angeles:20120319T000000
DTEND;TZID=America/Los_Angeles:20120319T000000
DTSTAMP:20260421T054447
CREATED:20200819T015407Z
LAST-MODIFIED:20200819T015407Z
UID:1498-1332115200-1332115200@www.bsa-troop355.org
SUMMARY:No School for HMS
DESCRIPTION:
URL:https://www.bsa-troop355.org/event/no-school-for-hms-2/
CATEGORIES:Holiday
END:VEVENT
BEGIN:VEVENT
DTSTART;TZID=America/Los_Angeles:20120316T000000
DTEND;TZID=America/Los_Angeles:20120316T000000
DTSTAMP:20260421T054447
CREATED:20200819T015407Z
LAST-MODIFIED:20200819T015407Z
UID:1497-1331856000-1331856000@www.bsa-troop355.org
SUMMARY:HMS 8th Grade Astro Camp
DESCRIPTION:
URL:https://www.bsa-troop355.org/event/hms-8th-grade-astro-camp-5/
CATEGORIES:Holiday
END:VEVENT
BEGIN:VEVENT
DTSTART;TZID=America/Los_Angeles:20120315T000000
DTEND;TZID=America/Los_Angeles:20120315T000000
DTSTAMP:20260421T054447
CREATED:20200819T015406Z
LAST-MODIFIED:20200819T015406Z
UID:1496-1331769600-1331769600@www.bsa-troop355.org
SUMMARY:HMS 8th Grade Astro Camp
DESCRIPTION:
URL:https://www.bsa-troop355.org/event/hms-8th-grade-astro-camp-4/
CATEGORIES:Holiday
END:VEVENT
BEGIN:VEVENT
DTSTART;TZID=America/Los_Angeles:20120314T000000
DTEND;TZID=America/Los_Angeles:20120314T000000
DTSTAMP:20260421T054447
CREATED:20200819T015406Z
LAST-MODIFIED:20200819T015406Z
UID:1495-1331683200-1331683200@www.bsa-troop355.org
SUMMARY:HMS 8th Grade Astro Camp
DESCRIPTION:
URL:https://www.bsa-troop355.org/event/hms-8th-grade-astro-camp-3/
CATEGORIES:Holiday
END:VEVENT
BEGIN:VEVENT
DTSTART;TZID=America/Los_Angeles:20120313T000000
DTEND;TZID=America/Los_Angeles:20120313T000000
DTSTAMP:20260421T054447
CREATED:20200819T015405Z
LAST-MODIFIED:20200819T015405Z
UID:1494-1331596800-1331596800@www.bsa-troop355.org
SUMMARY:HMS 8th Grade Astro Camp
DESCRIPTION:
URL:https://www.bsa-troop355.org/event/hms-8th-grade-astro-camp-2/
CATEGORIES:Holiday
END:VEVENT
BEGIN:VEVENT
DTSTART;TZID=America/Los_Angeles:20120312T000000
DTEND;TZID=America/Los_Angeles:20120312T000000
DTSTAMP:20260421T054447
CREATED:20200819T015404Z
LAST-MODIFIED:20200819T015404Z
UID:1491-1331510400-1331510400@www.bsa-troop355.org
SUMMARY:HMS 8th Grade Astro Camp
DESCRIPTION:
URL:https://www.bsa-troop355.org/event/hms-8th-grade-astro-camp/
CATEGORIES:Holiday
END:VEVENT
BEGIN:VEVENT
DTSTART;TZID=America/Los_Angeles:20120220T000000
DTEND;TZID=America/Los_Angeles:20120220T000000
DTSTAMP:20260421T054447
CREATED:20200819T015401Z
LAST-MODIFIED:20200819T015401Z
UID:1485-1329696000-1329696000@www.bsa-troop355.org
SUMMARY:Presidents' Day
DESCRIPTION:
URL:https://www.bsa-troop355.org/event/presidents-day-3/
CATEGORIES:Holiday
END:VEVENT
BEGIN:VEVENT
DTSTART;TZID=America/Los_Angeles:20120217T000000
DTEND;TZID=America/Los_Angeles:20120217T000000
DTSTAMP:20260421T054447
CREATED:20200819T015400Z
LAST-MODIFIED:20200819T015400Z
UID:1484-1329436800-1329436800@www.bsa-troop355.org
SUMMARY:No School for HMS
DESCRIPTION:
URL:https://www.bsa-troop355.org/event/no-school-for-hms/
CATEGORIES:Holiday
END:VEVENT
BEGIN:VEVENT
DTSTART;TZID=America/Los_Angeles:20120205T000000
DTEND;TZID=America/Los_Angeles:20120205T000000
DTSTAMP:20260421T054447
CREATED:20200819T015357Z
LAST-MODIFIED:20200819T015357Z
UID:1476-1328400000-1328400000@www.bsa-troop355.org
SUMMARY:Super Bowl
DESCRIPTION:
URL:https://www.bsa-troop355.org/event/super-bowl/
CATEGORIES:Holiday
END:VEVENT
BEGIN:VEVENT
DTSTART;TZID=America/Los_Angeles:20120203T000000
DTEND;TZID=America/Los_Angeles:20120203T000000
DTSTAMP:20260421T054447
CREATED:20200819T015355Z
LAST-MODIFIED:20200819T015355Z
UID:1474-1328227200-1328227200@www.bsa-troop355.org
SUMMARY:HMS Parents' Party
DESCRIPTION:
URL:https://www.bsa-troop355.org/event/hms-parents-party/
CATEGORIES:Holiday
END:VEVENT
BEGIN:VEVENT
DTSTART;TZID=America/Los_Angeles:20120101T000000
DTEND;TZID=America/Los_Angeles:20120101T000000
DTSTAMP:20260421T054447
CREATED:20200819T015347Z
LAST-MODIFIED:20200819T015347Z
UID:1458-1325376000-1325376000@www.bsa-troop355.org
SUMMARY:New Year's Day
DESCRIPTION:
URL:https://www.bsa-troop355.org/event/new-years-day-3/
CATEGORIES:Holiday
END:VEVENT
BEGIN:VEVENT
DTSTART;TZID=America/Los_Angeles:20111225T000000
DTEND;TZID=America/Los_Angeles:20111225T000000
DTSTAMP:20260421T054447
CREATED:20200819T015344Z
LAST-MODIFIED:20200819T015344Z
UID:1452-1324771200-1324771200@www.bsa-troop355.org
SUMMARY:Christmas Day
DESCRIPTION:
URL:https://www.bsa-troop355.org/event/christmas-day-2/
CATEGORIES:Holiday
END:VEVENT
BEGIN:VEVENT
DTSTART;TZID=America/Los_Angeles:20111126T000000
DTEND;TZID=America/Los_Angeles:20111126T000000
DTSTAMP:20260421T054447
CREATED:20200819T015337Z
LAST-MODIFIED:20200819T015337Z
UID:1438-1322265600-1322265600@www.bsa-troop355.org
SUMMARY:UCLA vs. USC Football Game
DESCRIPTION:
URL:https://www.bsa-troop355.org/event/ucla-vs-usc-football-game/
CATEGORIES:Holiday
END:VEVENT
BEGIN:VEVENT
DTSTART;TZID=America/Los_Angeles:20111125T000000
DTEND;TZID=America/Los_Angeles:20111125T000000
DTSTAMP:20260421T054447
CREATED:20200819T015337Z
LAST-MODIFIED:20200819T015337Z
UID:1437-1322179200-1322179200@www.bsa-troop355.org
SUMMARY:Thanksgiving
DESCRIPTION:
URL:https://www.bsa-troop355.org/event/thanksgiving-2/
CATEGORIES:Holiday
END:VEVENT
BEGIN:VEVENT
DTSTART;TZID=America/Los_Angeles:20111124T000000
DTEND;TZID=America/Los_Angeles:20111124T000000
DTSTAMP:20260421T054447
CREATED:20200819T015336Z
LAST-MODIFIED:20200819T015336Z
UID:1436-1322092800-1322092800@www.bsa-troop355.org
SUMMARY:Thanksgiving Day
DESCRIPTION:
URL:https://www.bsa-troop355.org/event/thanksgiving-day/
CATEGORIES:Holiday
END:VEVENT
BEGIN:VEVENT
DTSTART;TZID=America/Los_Angeles:20111111T000000
DTEND;TZID=America/Los_Angeles:20111111T000000
DTSTAMP:20260421T054447
CREATED:20200819T015332Z
LAST-MODIFIED:20200819T015332Z
UID:1427-1320969600-1320969600@www.bsa-troop355.org
SUMMARY:Veteran's Day Holiday
DESCRIPTION:
URL:https://www.bsa-troop355.org/event/veterans-day-holiday/
CATEGORIES:Holiday
END:VEVENT
BEGIN:VEVENT
DTSTART;TZID=America/Los_Angeles:20111031T000000
DTEND;TZID=America/Los_Angeles:20111031T000000
DTSTAMP:20260421T054447
CREATED:20200819T015329Z
LAST-MODIFIED:20200819T015329Z
UID:1422-1320019200-1320019200@www.bsa-troop355.org
SUMMARY:Halloween
DESCRIPTION:
URL:https://www.bsa-troop355.org/event/halloween-2/
CATEGORIES:Holiday
END:VEVENT
BEGIN:VEVENT
DTSTART;TZID=America/Los_Angeles:20111014T000000
DTEND;TZID=America/Los_Angeles:20111014T000000
DTSTAMP:20260421T054447
CREATED:20200819T015323Z
LAST-MODIFIED:20200819T015323Z
UID:1409-1318550400-1318550400@www.bsa-troop355.org
SUMMARY:HMS 6th Grade Science Trip
DESCRIPTION:
URL:https://www.bsa-troop355.org/event/hms-6th-grade-science-trip-5/
CATEGORIES:Holiday
END:VEVENT
BEGIN:VEVENT
DTSTART;TZID=America/Los_Angeles:20111013T000000
DTEND;TZID=America/Los_Angeles:20111013T000000
DTSTAMP:20260421T054447
CREATED:20200819T015323Z
LAST-MODIFIED:20200819T015323Z
UID:1408-1318464000-1318464000@www.bsa-troop355.org
SUMMARY:HMS 6th Grade Science Trip
DESCRIPTION:
URL:https://www.bsa-troop355.org/event/hms-6th-grade-science-trip-4/
CATEGORIES:Holiday
END:VEVENT
BEGIN:VEVENT
DTSTART;TZID=America/Los_Angeles:20111012T000000
DTEND;TZID=America/Los_Angeles:20111012T000000
DTSTAMP:20260421T054447
CREATED:20200819T015322Z
LAST-MODIFIED:20200819T015322Z
UID:1407-1318377600-1318377600@www.bsa-troop355.org
SUMMARY:HMS 6th Grade Science Trip
DESCRIPTION:
URL:https://www.bsa-troop355.org/event/hms-6th-grade-science-trip-3/
CATEGORIES:Holiday
END:VEVENT
BEGIN:VEVENT
DTSTART;TZID=America/Los_Angeles:20111011T000000
DTEND;TZID=America/Los_Angeles:20111011T000000
DTSTAMP:20260421T054447
CREATED:20200819T015322Z
LAST-MODIFIED:20200819T015322Z
UID:1406-1318291200-1318291200@www.bsa-troop355.org
SUMMARY:HMS 6th Grade Science Trip
DESCRIPTION:
URL:https://www.bsa-troop355.org/event/hms-6th-grade-science-trip-2/
CATEGORIES:Holiday
END:VEVENT
BEGIN:VEVENT
DTSTART;TZID=America/Los_Angeles:20111010T000000
DTEND;TZID=America/Los_Angeles:20111010T000000
DTSTAMP:20260421T054447
CREATED:20200819T015321Z
LAST-MODIFIED:20200819T015321Z
UID:1403-1318204800-1318204800@www.bsa-troop355.org
SUMMARY:HMS 6th Grade Science Trip
DESCRIPTION:
URL:https://www.bsa-troop355.org/event/hms-6th-grade-science-trip/
CATEGORIES:Holiday
END:VEVENT
BEGIN:VEVENT
DTSTART;TZID=America/Los_Angeles:20111010T000000
DTEND;TZID=America/Los_Angeles:20111010T000000
DTSTAMP:20260421T054447
CREATED:20200819T015321Z
LAST-MODIFIED:20200819T015321Z
UID:1404-1318204800-1318204800@www.bsa-troop355.org
SUMMARY:Columbus Day
DESCRIPTION:
URL:https://www.bsa-troop355.org/event/columbus-day-2/
CATEGORIES:Holiday
END:VEVENT
BEGIN:VEVENT
DTSTART;TZID=America/Los_Angeles:20110905T000000
DTEND;TZID=America/Los_Angeles:20110905T000000
DTSTAMP:20260421T054447
CREATED:20200819T015308Z
LAST-MODIFIED:20200819T015308Z
UID:1377-1315180800-1315180800@www.bsa-troop355.org
SUMMARY:Labor Day
DESCRIPTION:
URL:https://www.bsa-troop355.org/event/labor-day-2/
CATEGORIES:Holiday
END:VEVENT
BEGIN:VEVENT
DTSTART;TZID=America/Los_Angeles:20110823T000000
DTEND;TZID=America/Los_Angeles:20110823T000000
DTSTAMP:20260421T054447
CREATED:20200819T015305Z
LAST-MODIFIED:20200819T015305Z
UID:1373-1314057600-1314057600@www.bsa-troop355.org
SUMMARY:First Day San Marino Schools
DESCRIPTION:
URL:https://www.bsa-troop355.org/event/first-day-san-marino-schools-2/
CATEGORIES:Holiday
END:VEVENT
BEGIN:VEVENT
DTSTART;TZID=America/Los_Angeles:20110619T000000
DTEND;TZID=America/Los_Angeles:20110619T000000
DTSTAMP:20260421T054447
CREATED:20200819T015248Z
LAST-MODIFIED:20200819T015248Z
UID:1336-1308441600-1308441600@www.bsa-troop355.org
SUMMARY:Father's Day
DESCRIPTION:
URL:https://www.bsa-troop355.org/event/fathers-day-2/
CATEGORIES:Holiday
END:VEVENT
BEGIN:VEVENT
DTSTART;TZID=America/Los_Angeles:20110530T000000
DTEND;TZID=America/Los_Angeles:20110530T000000
DTSTAMP:20260421T054447
CREATED:20200819T015242Z
LAST-MODIFIED:20200819T015242Z
UID:1325-1306713600-1306713600@www.bsa-troop355.org
SUMMARY:Memorial Day
DESCRIPTION:
URL:https://www.bsa-troop355.org/event/memorial-day-2/
CATEGORIES:Holiday
END:VEVENT
BEGIN:VEVENT
DTSTART;TZID=America/Los_Angeles:20110508T000000
DTEND;TZID=America/Los_Angeles:20110508T000000
DTSTAMP:20260421T054447
CREATED:20200819T015233Z
LAST-MODIFIED:20200819T015233Z
UID:1305-1304812800-1304812800@www.bsa-troop355.org
SUMMARY:Mother's Day
DESCRIPTION:
URL:https://www.bsa-troop355.org/event/mothers-day-2/
CATEGORIES:Holiday
END:VEVENT
END:VCALENDAR